Package: tximeta Version: 1.20.3 Command: /home/biocbuild/bbs-3.18-bioc/R/bin/R CMD INSTALL tximeta StartedAt: 2024-04-15 15:52:48 -0400 (Mon, 15 Apr 2024) EndedAt: 2024-04-15 15:53:28 -0400 (Mon, 15 Apr 2024) EllapsedTime: 40.0 seconds RetCode: 0 Status: OK