Package: txcutr Version: 1.8.0 Command: /Library/Frameworks/R.framework/Resources/bin/R CMD build --keep-empty-dirs --no-resave-data txcutr StartedAt: 2024-03-03 18:39:27 -0500 (Sun, 03 Mar 2024) EndedAt: 2024-03-03 18:40:50 -0500 (Sun, 03 Mar 2024) EllapsedTime: 82.4 seconds RetCode: 0 Status: OK PackageFile: txcutr_1.8.0.tar.gz PackageFileSize: 314.7 KiB