Package: trio Version: 3.40.0 Command: rm -rf trio.buildbin-libdir && mkdir trio.buildbin-libdir && F:\biocbuild\bbs-3.18-bioc\R\bin\R.exe CMD INSTALL --build --library=trio.buildbin-libdir trio_3.40.0.tar.gz StartedAt: 2024-04-16 07:49:24 -0400 (Tue, 16 Apr 2024) EndedAt: 2024-04-16 07:50:19 -0400 (Tue, 16 Apr 2024) EllapsedTime: 55.2 seconds RetCode: 0 Status: OK PackageFile: trio_3.40.0.zip PackageFileSize: 1.551 MiB