Package: trio Version: 3.40.0 Command: /home/biocbuild/R/R-4.3.1/bin/R CMD build --keep-empty-dirs --no-resave-data trio StartedAt: 2023-11-02 07:13:14 -0000 (Thu, 02 Nov 2023) EndedAt: 2023-11-02 07:14:22 -0000 (Thu, 02 Nov 2023) EllapsedTime: 68.1 seconds RetCode: 0 Status: OK PackageFile: trio_3.40.0.tar.gz PackageFileSize: 737 KiB