Package: topdownr Version: 1.24.0 Command: chmod a+r topdownr -R && F:\biocbuild\bbs-3.18-bioc\R\bin\R.exe CMD build --keep-empty-dirs --no-resave-data topdownr StartedAt: 2024-04-15 21:45:57 -0400 (Mon, 15 Apr 2024) EndedAt: 2024-04-15 21:47:27 -0400 (Mon, 15 Apr 2024) EllapsedTime: 89.9 seconds RetCode: 0 Status: OK PackageFile: topdownr_1.24.0.tar.gz PackageFileSize: 1.299 MiB