Package: topconfects Version: 1.18.0 Command: rm -rf topconfects.buildbin-libdir && mkdir topconfects.buildbin-libdir && F:\biocbuild\bbs-3.18-bioc\R\bin\R.exe CMD INSTALL --build --library=topconfects.buildbin-libdir topconfects_1.18.0.tar.gz StartedAt: 2024-04-16 07:48:33 -0400 (Tue, 16 Apr 2024) EndedAt: 2024-04-16 07:48:44 -0400 (Tue, 16 Apr 2024) EllapsedTime: 11.1 seconds RetCode: 0 Status: OK PackageFile: topconfects_1.18.0.zip PackageFileSize: 1001 KiB