Package: topconfects Version: 1.18.0 Command: rm -rf topconfects.buildbin-libdir && mkdir topconfects.buildbin-libdir && /Users/biocbuild/BBS/utils/build-universal.sh topconfects_1.18.0.tar.gz /Library/Frameworks/R.framework/Resources/bin/R topconfects.buildbin-libdir StartedAt: 2024-03-04 01:09:05 -0500 (Mon, 04 Mar 2024) EndedAt: 2024-03-04 01:09:15 -0500 (Mon, 04 Mar 2024) EllapsedTime: 10.1 seconds RetCode: 0 Status: OK PackageFile: topconfects_1.18.0.tgz PackageFileSize: 1.995 MiB