Package: timeOmics Version: 1.14.0 Command: /Library/Frameworks/R.framework/Resources/bin/R CMD build --keep-empty-dirs --no-resave-data timeOmics StartedAt: 2024-04-15 22:34:31 -0400 (Mon, 15 Apr 2024) EndedAt: 2024-04-15 22:35:45 -0400 (Mon, 15 Apr 2024) EllapsedTime: 73.9 seconds RetCode: 0 Status: OK PackageFile: timeOmics_1.14.0.tar.gz PackageFileSize: 4.011 MiB