Package: syntenet Version: 1.4.2 Command: chmod a+r syntenet -R && F:\biocbuild\bbs-3.18-bioc\R\bin\R.exe CMD build --keep-empty-dirs --no-resave-data syntenet StartedAt: 2024-04-15 21:36:31 -0400 (Mon, 15 Apr 2024) EndedAt: 2024-04-15 21:42:02 -0400 (Mon, 15 Apr 2024) EllapsedTime: 330.6 seconds RetCode: 0 Status: OK PackageFile: syntenet_1.4.2.tar.gz PackageFileSize: 2.114 MiB