Package: swfdr Version: 1.28.0 Command: /home/biocbuild/bbs-3.18-bioc/R/bin/R CMD check --install=check:swfdr.install-out.txt --library=/home/biocbuild/bbs-3.18-bioc/R/site-library --timings swfdr_1.28.0.tar.gz StartedAt: 2024-04-16 04:34:48 -0400 (Tue, 16 Apr 2024) EndedAt: 2024-04-16 04:36:32 -0400 (Tue, 16 Apr 2024) EllapsedTime: 104.3 seconds RetCode: 0 Status: WARNINGS CheckDir: swfdr.Rcheck Warnings: 1