Package: survcomp Version: 1.52.0 Command: F:\biocbuild\bbs-3.18-bioc\R\bin\R.exe CMD INSTALL survcomp StartedAt: 2024-04-15 16:43:21 -0400 (Mon, 15 Apr 2024) EndedAt: 2024-04-15 16:43:42 -0400 (Mon, 15 Apr 2024) EllapsedTime: 20.7 seconds RetCode: 0 Status: OK