Package: survcomp Version: 1.52.0 Command: chmod a+r survcomp -R && F:\biocbuild\bbs-3.18-bioc\R\bin\R.exe CMD build --keep-empty-dirs --no-resave-data survcomp StartedAt: 2024-04-15 21:34:32 -0400 (Mon, 15 Apr 2024) EndedAt: 2024-04-15 21:35:09 -0400 (Mon, 15 Apr 2024) EllapsedTime: 36.7 seconds RetCode: 0 Status: OK PackageFile: survcomp_1.52.0.tar.gz PackageFileSize: 821.3 KiB