Package: survcomp Version: 1.52.0 Command: rm -rf survcomp.buildbin-libdir && mkdir survcomp.buildbin-libdir && F:\biocbuild\bbs-3.18-bioc\R\bin\R.exe CMD INSTALL --build --library=survcomp.buildbin-libdir survcomp_1.52.0.tar.gz StartedAt: 2024-04-16 07:46:25 -0400 (Tue, 16 Apr 2024) EndedAt: 2024-04-16 07:46:54 -0400 (Tue, 16 Apr 2024) EllapsedTime: 28.7 seconds RetCode: 0 Status: OK PackageFile: survcomp_1.52.0.zip PackageFileSize: 1.074 MiB