Package: survcomp Version: 1.52.0 Command: /home/biocbuild/R/R-4.3.1/bin/R CMD build --keep-empty-dirs --no-resave-data survcomp StartedAt: 2023-11-02 06:52:33 -0000 (Thu, 02 Nov 2023) EndedAt: 2023-11-02 06:52:58 -0000 (Thu, 02 Nov 2023) EllapsedTime: 25.0 seconds RetCode: 0 Status: OK PackageFile: survcomp_1.52.0.tar.gz PackageFileSize: 854.8 KiB