Package: sscore Version: 1.74.0 Command: chmod a+r sscore -R && F:\biocbuild\bbs-3.18-bioc\R\bin\R.exe CMD build --keep-empty-dirs --no-resave-data sscore StartedAt: 2024-04-15 21:28:58 -0400 (Mon, 15 Apr 2024) EndedAt: 2024-04-15 21:29:32 -0400 (Mon, 15 Apr 2024) EllapsedTime: 33.9 seconds RetCode: 0 Status: OK PackageFile: sscore_1.74.0.tar.gz PackageFileSize: 334.3 KiB