Package: sscore Version: 1.74.0 Command: rm -rf sscore.buildbin-libdir && mkdir sscore.buildbin-libdir && F:\biocbuild\bbs-3.18-bioc\R\bin\R.exe CMD INSTALL --build --library=sscore.buildbin-libdir sscore_1.74.0.tar.gz StartedAt: 2024-04-16 07:45:23 -0400 (Tue, 16 Apr 2024) EndedAt: 2024-04-16 07:45:30 -0400 (Tue, 16 Apr 2024) EllapsedTime: 7.0 seconds RetCode: 0 Status: OK PackageFile: sscore_1.74.0.zip PackageFileSize: 218.1 KiB