Package: spatzie Version: 1.8.0 Command: /home/biocbuild/bbs-3.18-bioc/R/bin/R CMD build --keep-empty-dirs --no-resave-data spatzie StartedAt: 2024-04-15 19:23:11 -0400 (Mon, 15 Apr 2024) EndedAt: 2024-04-15 19:24:06 -0400 (Mon, 15 Apr 2024) EllapsedTime: 55.4 seconds RetCode: 0 Status: OK PackageFile: spatzie_1.8.0.tar.gz PackageFileSize: 1.884 MiB