Package: sitadela Version: 1.10.0 Command: /home/biocbuild/R/R-4.3.1/bin/R CMD build --keep-empty-dirs --no-resave-data sitadela StartedAt: 2023-11-02 06:28:13 -0000 (Thu, 02 Nov 2023) EndedAt: 2023-11-02 06:31:37 -0000 (Thu, 02 Nov 2023) EllapsedTime: 204.3 seconds RetCode: 0 Status: OK PackageFile: sitadela_1.10.0.tar.gz PackageFileSize: 550.3 KiB