Package: simona Version: 1.0.10 Command: F:\biocbuild\bbs-3.18-bioc\R\bin\R.exe CMD check --no-multiarch --install=check:simona.install-out.txt --library=F:\biocbuild\bbs-3.18-bioc\R\library --no-vignettes --timings simona_1.0.10.tar.gz StartedAt: 2024-04-16 05:11:10 -0400 (Tue, 16 Apr 2024) EndedAt: 2024-04-16 05:14:02 -0400 (Tue, 16 Apr 2024) EllapsedTime: 171.7 seconds RetCode: 0 Status: OK CheckDir: simona.Rcheck Warnings: 0