Package: seqArchR Version: 1.6.0 Command: /home/biocbuild/bbs-3.18-bioc/R/bin/R CMD INSTALL seqArchR StartedAt: 2024-04-15 15:16:09 -0400 (Mon, 15 Apr 2024) EndedAt: 2024-04-15 15:16:26 -0400 (Mon, 15 Apr 2024) EllapsedTime: 17.2 seconds RetCode: 0 Status: OK