Package: seq.hotSPOT Version: 1.2.0 Command: /Library/Frameworks/R.framework/Resources/bin/R CMD INSTALL seq.hotSPOT StartedAt: 2024-03-03 15:07:09 -0500 (Sun, 03 Mar 2024) EndedAt: 2024-03-03 15:07:30 -0500 (Sun, 03 Mar 2024) EllapsedTime: 21.4 seconds RetCode: 0 Status: OK