Package: scviR Version: 1.2.0 Command: /home/biocbuild/R/R-4.3.1/bin/R CMD INSTALL scviR StartedAt: 2023-11-01 20:56:41 -0000 (Wed, 01 Nov 2023) EndedAt: 2023-11-01 20:57:27 -0000 (Wed, 01 Nov 2023) EllapsedTime: 46.1 seconds RetCode: 0 Status: OK