Package: scFeatures Version: 1.3.2 Command: F:\biocbuild\bbs-3.18-bioc\R\bin\R.exe CMD check --no-multiarch --install=check:scFeatures.install-out.txt --library=F:\biocbuild\bbs-3.18-bioc\R\library --no-vignettes --timings scFeatures_1.3.2.tar.gz StartedAt: 2024-04-16 04:48:43 -0400 (Tue, 16 Apr 2024) EndedAt: 2024-04-16 04:56:19 -0400 (Tue, 16 Apr 2024) EllapsedTime: 456.8 seconds RetCode: 0 Status: WARNINGS CheckDir: scFeatures.Rcheck Warnings: 1