Package: sagenhaft Version: 1.72.0 Command: /home/biocbuild/R/R-4.3.1/bin/R CMD INSTALL sagenhaft StartedAt: 2023-11-01 20:07:12 -0000 (Wed, 01 Nov 2023) EndedAt: 2023-11-01 20:07:35 -0000 (Wed, 01 Nov 2023) EllapsedTime: 22.8 seconds RetCode: 0 Status: OK