Package: sRACIPE Version: 1.18.0 Command: /home/biocbuild/R/R-4.3.1/bin/R CMD build --keep-empty-dirs --no-resave-data sRACIPE StartedAt: 2023-11-02 06:44:56 -0000 (Thu, 02 Nov 2023) EndedAt: 2023-11-02 06:46:32 -0000 (Thu, 02 Nov 2023) EllapsedTime: 96.0 seconds RetCode: 0 Status: OK PackageFile: sRACIPE_1.18.0.tar.gz PackageFileSize: 1.92 MiB