Package: rqt Version: 1.28.0 Command: /Library/Frameworks/R.framework/Resources/bin/R CMD check --install=check:rqt.install-out.txt --library=/Library/Frameworks/R.framework/Resources/library --no-vignettes --timings rqt_1.28.0.tar.gz StartedAt: 2024-04-06 08:05:56 -0400 (Sat, 06 Apr 2024) EndedAt: 2024-04-06 08:12:20 -0400 (Sat, 06 Apr 2024) EllapsedTime: 383.7 seconds RetCode: 0 Status: OK CheckDir: rqt.Rcheck Warnings: 0