Package: ropls Version: 1.34.0 Command: /Library/Frameworks/R.framework/Resources/bin/R CMD build --keep-empty-dirs --no-resave-data ropls StartedAt: 2024-03-03 18:05:08 -0500 (Sun, 03 Mar 2024) EndedAt: 2024-03-03 18:06:29 -0500 (Sun, 03 Mar 2024) EllapsedTime: 80.3 seconds RetCode: 0 Status: OK PackageFile: ropls_1.34.0.tar.gz PackageFileSize: 4.086 MiB