Package: rols Version: 2.30.2 Command: chmod a+r rols -R && F:\biocbuild\bbs-3.18-bioc\R\bin\R.exe CMD build --keep-empty-dirs --no-resave-data rols StartedAt: 2024-04-15 20:48:01 -0400 (Mon, 15 Apr 2024) EndedAt: 2024-04-15 20:48:46 -0400 (Mon, 15 Apr 2024) EllapsedTime: 44.5 seconds RetCode: 0 Status: OK PackageFile: rols_2.30.2.tar.gz PackageFileSize: 390.2 KiB