Package: roastgsa Version: 1.0.0 Command: /home/biocbuild/R/R-4.3.1/bin/R CMD INSTALL roastgsa StartedAt: 2023-11-01 20:12:20 -0000 (Wed, 01 Nov 2023) EndedAt: 2023-11-01 20:12:30 -0000 (Wed, 01 Nov 2023) EllapsedTime: 9.2 seconds RetCode: 0 Status: OK