Package: rnaseqcomp Version: 1.32.0 Command: rm -rf rnaseqcomp.buildbin-libdir && mkdir rnaseqcomp.buildbin-libdir && F:\biocbuild\bbs-3.18-bioc\R\bin\R.exe CMD INSTALL --build --library=rnaseqcomp.buildbin-libdir rnaseqcomp_1.32.0.tar.gz StartedAt: 2024-04-16 07:34:50 -0400 (Tue, 16 Apr 2024) EndedAt: 2024-04-16 07:34:58 -0400 (Tue, 16 Apr 2024) EllapsedTime: 7.7 seconds RetCode: 0 Status: OK PackageFile: rnaseqcomp_1.32.0.zip PackageFileSize: 1.456 MiB