Package: rfPred Version: 1.40.0 Command: rm -rf rfPred.buildbin-libdir && mkdir rfPred.buildbin-libdir && F:\biocbuild\bbs-3.18-bioc\R\bin\R.exe CMD INSTALL --build --library=rfPred.buildbin-libdir rfPred_1.40.0.tar.gz StartedAt: 2024-04-16 07:32:42 -0400 (Tue, 16 Apr 2024) EndedAt: 2024-04-16 07:33:01 -0400 (Tue, 16 Apr 2024) EllapsedTime: 19.5 seconds RetCode: 0 Status: OK PackageFile: rfPred_1.40.0.zip PackageFileSize: 1.083 MiB