Package: rfPred Version: 1.40.0 Command: /Library/Frameworks/R.framework/Resources/bin/R CMD INSTALL rfPred StartedAt: 2024-04-15 15:27:03 -0400 (Mon, 15 Apr 2024) EndedAt: 2024-04-15 15:27:29 -0400 (Mon, 15 Apr 2024) EllapsedTime: 25.9 seconds RetCode: 0 Status: OK