Package: rexposome Version: 1.24.1 Command: chmod a+r rexposome -R && F:\biocbuild\bbs-3.18-bioc\R\bin\R.exe CMD build --keep-empty-dirs --no-resave-data rexposome StartedAt: 2024-04-15 20:40:00 -0400 (Mon, 15 Apr 2024) EndedAt: 2024-04-15 20:42:07 -0400 (Mon, 15 Apr 2024) EllapsedTime: 127.8 seconds RetCode: 0 Status: OK PackageFile: rexposome_1.24.1.tar.gz PackageFileSize: 5.473 MiB