Package: rexposome Version: 1.24.1 Command: rm -rf rexposome.buildbin-libdir && mkdir rexposome.buildbin-libdir && F:\biocbuild\bbs-3.18-bioc\R\bin\R.exe CMD INSTALL --build --library=rexposome.buildbin-libdir rexposome_1.24.1.tar.gz StartedAt: 2024-04-16 07:32:33 -0400 (Tue, 16 Apr 2024) EndedAt: 2024-04-16 07:33:13 -0400 (Tue, 16 Apr 2024) EllapsedTime: 40.3 seconds RetCode: 0 Status: OK PackageFile: rexposome_1.24.1.zip PackageFileSize: 5.961 MiB