Package: rexposome Version: 1.24.1 Command: /Library/Frameworks/R.framework/Resources/bin/R CMD build --keep-empty-dirs --no-resave-data rexposome StartedAt: 2024-03-03 18:00:21 -0500 (Sun, 03 Mar 2024) EndedAt: 2024-03-03 18:02:20 -0500 (Sun, 03 Mar 2024) EllapsedTime: 118.8 seconds RetCode: 0 Status: OK PackageFile: rexposome_1.24.1.tar.gz PackageFileSize: 7.531 MiB