Package: rexposome Version: 1.24.1 Command: rm -rf rexposome.buildbin-libdir && mkdir rexposome.buildbin-libdir && /Users/biocbuild/BBS/utils/build-universal.sh rexposome_1.24.1.tar.gz /Library/Frameworks/R.framework/Resources/bin/R rexposome.buildbin-libdir StartedAt: 2024-03-04 00:59:26 -0500 (Mon, 04 Mar 2024) EndedAt: 2024-03-04 01:00:03 -0500 (Mon, 04 Mar 2024) EllapsedTime: 36.2 seconds RetCode: 0 Status: OK PackageFile: rexposome_1.24.1.tgz PackageFileSize: 8.022 MiB