Package: rbsurv Version: 2.60.0 Command: chmod a+r rbsurv -R && F:\biocbuild\bbs-3.18-bioc\R\bin\R.exe CMD build --keep-empty-dirs --no-resave-data rbsurv StartedAt: 2024-04-15 20:35:25 -0400 (Mon, 15 Apr 2024) EndedAt: 2024-04-15 20:35:57 -0400 (Mon, 15 Apr 2024) EllapsedTime: 32.5 seconds RetCode: 0 Status: OK PackageFile: rbsurv_2.60.0.tar.gz PackageFileSize: 254.8 KiB