Package: randPack Version: 1.48.0 Command: /Library/Frameworks/R.framework/Resources/bin/R CMD check --install=check:randPack.install-out.txt --library=/Library/Frameworks/R.framework/Resources/library --no-vignettes --timings randPack_1.48.0.tar.gz StartedAt: 2024-03-03 22:48:54 -0500 (Sun, 03 Mar 2024) EndedAt: 2024-03-03 22:49:34 -0500 (Sun, 03 Mar 2024) EllapsedTime: 39.6 seconds RetCode: 0 Status: OK CheckDir: randPack.Rcheck Warnings: 0