Package: rCGH Version: 1.32.0 Command: /Library/Frameworks/R.framework/Resources/bin/R CMD INSTALL rCGH StartedAt: 2024-03-03 15:35:00 -0500 (Sun, 03 Mar 2024) EndedAt: 2024-03-03 15:36:05 -0500 (Sun, 03 Mar 2024) EllapsedTime: 65.6 seconds RetCode: 0 Status: OK