Package: rCGH Version: 1.32.0 Command: /Library/Frameworks/R.framework/Resources/bin/R CMD build --keep-empty-dirs --no-resave-data rCGH StartedAt: 2024-03-03 17:57:20 -0500 (Sun, 03 Mar 2024) EndedAt: 2024-03-03 17:59:09 -0500 (Sun, 03 Mar 2024) EllapsedTime: 108.7 seconds RetCode: 0 Status: OK PackageFile: rCGH_1.32.0.tar.gz PackageFileSize: 3.986 MiB