Package: qvalue Version: 2.34.0 Command: /Library/Frameworks/R.framework/Resources/bin/R CMD INSTALL qvalue StartedAt: 2024-04-15 15:21:43 -0400 (Mon, 15 Apr 2024) EndedAt: 2024-04-15 15:21:58 -0400 (Mon, 15 Apr 2024) EllapsedTime: 15.0 seconds RetCode: 0 Status: OK