Package: quantsmooth Version: 1.68.0 Command: chmod a+r quantsmooth -R && F:\biocbuild\bbs-3.18-bioc\R\bin\R.exe CMD build --keep-empty-dirs --no-resave-data quantsmooth StartedAt: 2024-04-15 20:29:43 -0400 (Mon, 15 Apr 2024) EndedAt: 2024-04-15 20:29:59 -0400 (Mon, 15 Apr 2024) EllapsedTime: 16.0 seconds RetCode: 0 Status: OK PackageFile: quantsmooth_1.68.0.tar.gz PackageFileSize: 230.7 KiB