Package: pvac Version: 1.50.0 Command: rm -rf pvac.buildbin-libdir && mkdir pvac.buildbin-libdir && /Users/biocbuild/BBS/utils/build-universal.sh pvac_1.50.0.tar.gz /Library/Frameworks/R.framework/Resources/bin/R pvac.buildbin-libdir StartedAt: 2024-04-16 12:28:04 -0400 (Tue, 16 Apr 2024) EndedAt: 2024-04-16 12:28:12 -0400 (Tue, 16 Apr 2024) EllapsedTime: 7.5 seconds RetCode: 0 Status: OK PackageFile: pvac_1.50.0.tgz PackageFileSize: 253.1 KiB