Package: pvac Version: 1.50.0 Command: /Library/Frameworks/R.framework/Resources/bin/R CMD build --keep-empty-dirs --no-resave-data pvac StartedAt: 2024-03-03 17:53:29 -0500 (Sun, 03 Mar 2024) EndedAt: 2024-03-03 17:54:16 -0500 (Sun, 03 Mar 2024) EllapsedTime: 47.5 seconds RetCode: 0 Status: OK PackageFile: pvac_1.50.0.tar.gz PackageFileSize: 257.3 KiB