Package: pvac Version: 1.50.0 Command: /home/biocbuild/R/R-4.3.1/bin/R CMD build --keep-empty-dirs --no-resave-data pvac StartedAt: 2023-11-02 04:45:38 -0000 (Thu, 02 Nov 2023) EndedAt: 2023-11-02 04:46:38 -0000 (Thu, 02 Nov 2023) EllapsedTime: 60.1 seconds RetCode: 0 Status: OK PackageFile: pvac_1.50.0.tar.gz PackageFileSize: 252 KiB