Package: psichomics Version: 1.28.1 Command: rm -rf psichomics.buildbin-libdir && mkdir psichomics.buildbin-libdir && /Users/biocbuild/BBS/utils/build-universal.sh psichomics_1.28.1.tar.gz /Library/Frameworks/R.framework/Resources/bin/R psichomics.buildbin-libdir StartedAt: 2024-04-11 12:09:30 -0400 (Thu, 11 Apr 2024) EndedAt: 2024-04-11 12:13:01 -0400 (Thu, 11 Apr 2024) EllapsedTime: 210.9 seconds RetCode: 0 Status: OK PackageFile: psichomics_1.28.1.tgz PackageFileSize: 4.664 MiB