Package: proteinProfiles Version: 1.42.0 Command: chmod a+r proteinProfiles -R && F:\biocbuild\bbs-3.18-bioc\R\bin\R.exe CMD build --keep-empty-dirs --no-resave-data proteinProfiles StartedAt: 2024-04-15 20:25:37 -0400 (Mon, 15 Apr 2024) EndedAt: 2024-04-15 20:25:56 -0400 (Mon, 15 Apr 2024) EllapsedTime: 19.0 seconds RetCode: 0 Status: OK PackageFile: proteinProfiles_1.42.0.tar.gz PackageFileSize: 243.8 KiB