Package: plethy Version: 1.39.0 Command: F:\biocbuild\bbs-3.18-bioc\R\bin\R.exe CMD check --no-multiarch --install=check:plethy.install-out.txt --library=F:\biocbuild\bbs-3.18-bioc\R\library --no-vignettes --timings plethy_1.39.0.tar.gz StartedAt: 2023-06-27 04:37:08 -0400 (Tue, 27 Jun 2023) EndedAt: 2023-06-27 04:39:50 -0400 (Tue, 27 Jun 2023) EllapsedTime: 161.8 seconds RetCode: 1 Status: ERROR CheckDir: plethy.Rcheck Warnings: NA