Package: pepStat Version: 1.36.0 Command: rm -rf pepStat.buildbin-libdir && mkdir pepStat.buildbin-libdir && F:\biocbuild\bbs-3.18-bioc\R\bin\R.exe CMD INSTALL --build --library=pepStat.buildbin-libdir pepStat_1.36.0.tar.gz StartedAt: 2024-04-16 07:25:55 -0400 (Tue, 16 Apr 2024) EndedAt: 2024-04-16 07:26:25 -0400 (Tue, 16 Apr 2024) EllapsedTime: 30.1 seconds RetCode: 0 Status: OK PackageFile: pepStat_1.36.0.zip PackageFileSize: 720.1 KiB