Package: orthos Version: 1.0.1 Command: /home/biocbuild/bbs-3.18-bioc/R/bin/R CMD INSTALL orthos StartedAt: 2024-04-15 15:52:03 -0400 (Mon, 15 Apr 2024) EndedAt: 2024-04-15 15:52:26 -0400 (Mon, 15 Apr 2024) EllapsedTime: 23.8 seconds RetCode: 0 Status: OK